BEGIN:VCALENDAR
VERSION:2.0
PRODID:-//Don&#039;t Spill the Beans - ECPv6.15.20//NONSGML v1.0//EN
CALSCALE:GREGORIAN
METHOD:PUBLISH
X-ORIGINAL-URL:https://dontspillthebeans.net
X-WR-CALDESC:Events for Don&#039;t Spill the Beans
REFRESH-INTERVAL;VALUE=DURATION:PT1H
X-Robots-Tag:noindex
X-PUBLISHED-TTL:PT1H
BEGIN:VTIMEZONE
TZID:America/New_York
BEGIN:DAYLIGHT
TZOFFSETFROM:-0500
TZOFFSETTO:-0400
TZNAME:EDT
DTSTART:20270314T070000
END:DAYLIGHT
BEGIN:STANDARD
TZOFFSETFROM:-0400
TZOFFSETTO:-0500
TZNAME:EST
DTSTART:20271107T060000
END:STANDARD
BEGIN:DAYLIGHT
TZOFFSETFROM:-0500
TZOFFSETTO:-0400
TZNAME:EDT
DTSTART:20280312T070000
END:DAYLIGHT
BEGIN:STANDARD
TZOFFSETFROM:-0400
TZOFFSETTO:-0500
TZNAME:EST
DTSTART:20281105T060000
END:STANDARD
BEGIN:DAYLIGHT
TZOFFSETFROM:-0500
TZOFFSETTO:-0400
TZNAME:EDT
DTSTART:20290311T070000
END:DAYLIGHT
BEGIN:STANDARD
TZOFFSETFROM:-0400
TZOFFSETTO:-0500
TZNAME:EST
DTSTART:20291104T060000
END:STANDARD
END:VTIMEZONE
BEGIN:VEVENT
DTSTART;TZID=America/New_York:20280606T080000
DTEND;TZID=America/New_York:20280606T170000
DTSTAMP:20260422T210909
CREATED:20241119T200624Z
LAST-MODIFIED:20241119T200624Z
UID:10000188-1843891200-1843923600@dontspillthebeans.net
SUMMARY:Title
DESCRIPTION:Coming Soon!
URL:https://dontspillthebeans.net/event/title/2028-06-06/
END:VEVENT
BEGIN:VEVENT
DTSTART;TZID=America/New_York:20280613T080000
DTEND;TZID=America/New_York:20280613T170000
DTSTAMP:20260422T210909
CREATED:20241119T200624Z
LAST-MODIFIED:20241119T200624Z
UID:10000189-1844496000-1844528400@dontspillthebeans.net
SUMMARY:Title
DESCRIPTION:Coming Soon!
URL:https://dontspillthebeans.net/event/title/2028-06-13/
END:VEVENT
BEGIN:VEVENT
DTSTART;TZID=America/New_York:20280620T080000
DTEND;TZID=America/New_York:20280620T170000
DTSTAMP:20260422T210909
CREATED:20241119T200624Z
LAST-MODIFIED:20241119T200624Z
UID:10000190-1845100800-1845133200@dontspillthebeans.net
SUMMARY:Title
DESCRIPTION:Coming Soon!
URL:https://dontspillthebeans.net/event/title/2028-06-20/
END:VEVENT
BEGIN:VEVENT
DTSTART;TZID=America/New_York:20280627T080000
DTEND;TZID=America/New_York:20280627T170000
DTSTAMP:20260422T210909
CREATED:20241119T200624Z
LAST-MODIFIED:20241119T200624Z
UID:10000191-1845705600-1845738000@dontspillthebeans.net
SUMMARY:Title
DESCRIPTION:Coming Soon!
URL:https://dontspillthebeans.net/event/title/2028-06-27/
END:VEVENT
BEGIN:VEVENT
DTSTART;TZID=America/New_York:20280704T080000
DTEND;TZID=America/New_York:20280704T170000
DTSTAMP:20260422T210909
CREATED:20241119T200624Z
LAST-MODIFIED:20241119T200624Z
UID:10000192-1846310400-1846342800@dontspillthebeans.net
SUMMARY:Title
DESCRIPTION:Coming Soon!
URL:https://dontspillthebeans.net/event/title/2028-07-04/
END:VEVENT
BEGIN:VEVENT
DTSTART;TZID=America/New_York:20280711T080000
DTEND;TZID=America/New_York:20280711T170000
DTSTAMP:20260422T210909
CREATED:20241119T200624Z
LAST-MODIFIED:20241119T200624Z
UID:10000193-1846915200-1846947600@dontspillthebeans.net
SUMMARY:Title
DESCRIPTION:Coming Soon!
URL:https://dontspillthebeans.net/event/title/2028-07-11/
END:VEVENT
BEGIN:VEVENT
DTSTART;TZID=America/New_York:20280718T080000
DTEND;TZID=America/New_York:20280718T170000
DTSTAMP:20260422T210909
CREATED:20241119T200624Z
LAST-MODIFIED:20241119T200624Z
UID:10000194-1847520000-1847552400@dontspillthebeans.net
SUMMARY:Title
DESCRIPTION:Coming Soon!
URL:https://dontspillthebeans.net/event/title/2028-07-18/
END:VEVENT
BEGIN:VEVENT
DTSTART;TZID=America/New_York:20280725T080000
DTEND;TZID=America/New_York:20280725T170000
DTSTAMP:20260422T210909
CREATED:20241119T200624Z
LAST-MODIFIED:20241119T200624Z
UID:10000195-1848124800-1848157200@dontspillthebeans.net
SUMMARY:Title
DESCRIPTION:Coming Soon!
URL:https://dontspillthebeans.net/event/title/2028-07-25/
END:VEVENT
BEGIN:VEVENT
DTSTART;TZID=America/New_York:20280801T080000
DTEND;TZID=America/New_York:20280801T170000
DTSTAMP:20260422T210909
CREATED:20241119T200624Z
LAST-MODIFIED:20241119T200624Z
UID:10000196-1848729600-1848762000@dontspillthebeans.net
SUMMARY:Title
DESCRIPTION:Coming Soon!
URL:https://dontspillthebeans.net/event/title/2028-08-01/
END:VEVENT
BEGIN:VEVENT
DTSTART;TZID=America/New_York:20280808T080000
DTEND;TZID=America/New_York:20280808T170000
DTSTAMP:20260422T210909
CREATED:20241119T200624Z
LAST-MODIFIED:20241119T200624Z
UID:10000197-1849334400-1849366800@dontspillthebeans.net
SUMMARY:Title
DESCRIPTION:Coming Soon!
URL:https://dontspillthebeans.net/event/title/2028-08-08/
END:VEVENT
BEGIN:VEVENT
DTSTART;TZID=America/New_York:20280815T080000
DTEND;TZID=America/New_York:20280815T170000
DTSTAMP:20260422T210909
CREATED:20241119T200624Z
LAST-MODIFIED:20241119T200624Z
UID:10000198-1849939200-1849971600@dontspillthebeans.net
SUMMARY:Title
DESCRIPTION:Coming Soon!
URL:https://dontspillthebeans.net/event/title/2028-08-15/
END:VEVENT
BEGIN:VEVENT
DTSTART;TZID=America/New_York:20280822T080000
DTEND;TZID=America/New_York:20280822T170000
DTSTAMP:20260422T210909
CREATED:20241119T200624Z
LAST-MODIFIED:20241119T200624Z
UID:10000199-1850544000-1850576400@dontspillthebeans.net
SUMMARY:Title
DESCRIPTION:Coming Soon!
URL:https://dontspillthebeans.net/event/title/2028-08-22/
END:VEVENT
BEGIN:VEVENT
DTSTART;TZID=America/New_York:20280829T080000
DTEND;TZID=America/New_York:20280829T170000
DTSTAMP:20260422T210909
CREATED:20241119T200624Z
LAST-MODIFIED:20241119T200624Z
UID:10000200-1851148800-1851181200@dontspillthebeans.net
SUMMARY:Title
DESCRIPTION:Coming Soon!
URL:https://dontspillthebeans.net/event/title/2028-08-29/
END:VEVENT
BEGIN:VEVENT
DTSTART;TZID=America/New_York:20280905T080000
DTEND;TZID=America/New_York:20280905T170000
DTSTAMP:20260422T210909
CREATED:20241119T200624Z
LAST-MODIFIED:20241119T200624Z
UID:10000201-1851753600-1851786000@dontspillthebeans.net
SUMMARY:Title
DESCRIPTION:Coming Soon!
URL:https://dontspillthebeans.net/event/title/2028-09-05/
END:VEVENT
BEGIN:VEVENT
DTSTART;TZID=America/New_York:20280912T080000
DTEND;TZID=America/New_York:20280912T170000
DTSTAMP:20260422T210909
CREATED:20241119T200624Z
LAST-MODIFIED:20241119T200624Z
UID:10000202-1852358400-1852390800@dontspillthebeans.net
SUMMARY:Title
DESCRIPTION:Coming Soon!
URL:https://dontspillthebeans.net/event/title/2028-09-12/
END:VEVENT
BEGIN:VEVENT
DTSTART;TZID=America/New_York:20280919T080000
DTEND;TZID=America/New_York:20280919T170000
DTSTAMP:20260422T210909
CREATED:20241119T200624Z
LAST-MODIFIED:20241119T200624Z
UID:10000203-1852963200-1852995600@dontspillthebeans.net
SUMMARY:Title
DESCRIPTION:Coming Soon!
URL:https://dontspillthebeans.net/event/title/2028-09-19/
END:VEVENT
BEGIN:VEVENT
DTSTART;TZID=America/New_York:20280926T080000
DTEND;TZID=America/New_York:20280926T170000
DTSTAMP:20260422T210909
CREATED:20241119T200624Z
LAST-MODIFIED:20241119T200624Z
UID:10000204-1853568000-1853600400@dontspillthebeans.net
SUMMARY:Title
DESCRIPTION:Coming Soon!
URL:https://dontspillthebeans.net/event/title/2028-09-26/
END:VEVENT
BEGIN:VEVENT
DTSTART;TZID=America/New_York:20281003T080000
DTEND;TZID=America/New_York:20281003T170000
DTSTAMP:20260422T210909
CREATED:20241119T200624Z
LAST-MODIFIED:20241119T200624Z
UID:10000205-1854172800-1854205200@dontspillthebeans.net
SUMMARY:Title
DESCRIPTION:Coming Soon!
URL:https://dontspillthebeans.net/event/title/2028-10-03/
END:VEVENT
BEGIN:VEVENT
DTSTART;TZID=America/New_York:20281010T080000
DTEND;TZID=America/New_York:20281010T170000
DTSTAMP:20260422T210909
CREATED:20241119T200624Z
LAST-MODIFIED:20241119T200624Z
UID:10000206-1854777600-1854810000@dontspillthebeans.net
SUMMARY:Title
DESCRIPTION:Coming Soon!
URL:https://dontspillthebeans.net/event/title/2028-10-10/
END:VEVENT
BEGIN:VEVENT
DTSTART;TZID=America/New_York:20281017T080000
DTEND;TZID=America/New_York:20281017T170000
DTSTAMP:20260422T210909
CREATED:20241119T200624Z
LAST-MODIFIED:20241119T200624Z
UID:10000207-1855382400-1855414800@dontspillthebeans.net
SUMMARY:Title
DESCRIPTION:Coming Soon!
URL:https://dontspillthebeans.net/event/title/2028-10-17/
END:VEVENT
BEGIN:VEVENT
DTSTART;TZID=America/New_York:20281024T080000
DTEND;TZID=America/New_York:20281024T170000
DTSTAMP:20260422T210909
CREATED:20241119T200624Z
LAST-MODIFIED:20241119T200624Z
UID:10000208-1855987200-1856019600@dontspillthebeans.net
SUMMARY:Title
DESCRIPTION:Coming Soon!
URL:https://dontspillthebeans.net/event/title/2028-10-24/
END:VEVENT
BEGIN:VEVENT
DTSTART;TZID=America/New_York:20281031T080000
DTEND;TZID=America/New_York:20281031T170000
DTSTAMP:20260422T210909
CREATED:20241119T200624Z
LAST-MODIFIED:20241119T200624Z
UID:10000209-1856592000-1856624400@dontspillthebeans.net
SUMMARY:Title
DESCRIPTION:Coming Soon!
URL:https://dontspillthebeans.net/event/title/2028-10-31/
END:VEVENT
BEGIN:VEVENT
DTSTART;TZID=America/New_York:20281107T080000
DTEND;TZID=America/New_York:20281107T170000
DTSTAMP:20260422T210909
CREATED:20241119T200624Z
LAST-MODIFIED:20241119T200624Z
UID:10000210-1857196800-1857229200@dontspillthebeans.net
SUMMARY:Title
DESCRIPTION:Coming Soon!
URL:https://dontspillthebeans.net/event/title/2028-11-07/
END:VEVENT
BEGIN:VEVENT
DTSTART;TZID=America/New_York:20281114T080000
DTEND;TZID=America/New_York:20281114T170000
DTSTAMP:20260422T210909
CREATED:20241119T200624Z
LAST-MODIFIED:20241119T200624Z
UID:10000211-1857801600-1857834000@dontspillthebeans.net
SUMMARY:Title
DESCRIPTION:Coming Soon!
URL:https://dontspillthebeans.net/event/title/2028-11-14/
END:VEVENT
BEGIN:VEVENT
DTSTART;TZID=America/New_York:20281121T080000
DTEND;TZID=America/New_York:20281121T170000
DTSTAMP:20260422T210909
CREATED:20241119T200624Z
LAST-MODIFIED:20241119T200624Z
UID:10000212-1858406400-1858438800@dontspillthebeans.net
SUMMARY:Title
DESCRIPTION:Coming Soon!
URL:https://dontspillthebeans.net/event/title/2028-11-21/
END:VEVENT
BEGIN:VEVENT
DTSTART;TZID=America/New_York:20281128T080000
DTEND;TZID=America/New_York:20281128T170000
DTSTAMP:20260422T210909
CREATED:20241119T200624Z
LAST-MODIFIED:20241119T200624Z
UID:10000213-1859011200-1859043600@dontspillthebeans.net
SUMMARY:Title
DESCRIPTION:Coming Soon!
URL:https://dontspillthebeans.net/event/title/2028-11-28/
END:VEVENT
BEGIN:VEVENT
DTSTART;TZID=America/New_York:20281205T080000
DTEND;TZID=America/New_York:20281205T170000
DTSTAMP:20260422T210909
CREATED:20241119T200624Z
LAST-MODIFIED:20241119T200624Z
UID:10000214-1859616000-1859648400@dontspillthebeans.net
SUMMARY:Title
DESCRIPTION:Coming Soon!
URL:https://dontspillthebeans.net/event/title/2028-12-05/
END:VEVENT
BEGIN:VEVENT
DTSTART;TZID=America/New_York:20281212T080000
DTEND;TZID=America/New_York:20281212T170000
DTSTAMP:20260422T210910
CREATED:20241119T200624Z
LAST-MODIFIED:20241119T200624Z
UID:10000215-1860220800-1860253200@dontspillthebeans.net
SUMMARY:Title
DESCRIPTION:Coming Soon!
URL:https://dontspillthebeans.net/event/title/2028-12-12/
END:VEVENT
BEGIN:VEVENT
DTSTART;TZID=America/New_York:20281219T080000
DTEND;TZID=America/New_York:20281219T170000
DTSTAMP:20260422T210910
CREATED:20241119T200624Z
LAST-MODIFIED:20241119T200624Z
UID:10000216-1860825600-1860858000@dontspillthebeans.net
SUMMARY:Title
DESCRIPTION:Coming Soon!
URL:https://dontspillthebeans.net/event/title/2028-12-19/
END:VEVENT
BEGIN:VEVENT
DTSTART;TZID=America/New_York:20281226T080000
DTEND;TZID=America/New_York:20281226T170000
DTSTAMP:20260422T210910
CREATED:20241119T200624Z
LAST-MODIFIED:20241119T200624Z
UID:10000217-1861430400-1861462800@dontspillthebeans.net
SUMMARY:Title
DESCRIPTION:Coming Soon!
URL:https://dontspillthebeans.net/event/title/2028-12-26/
END:VEVENT
END:VCALENDAR