BEGIN:VCALENDAR
VERSION:2.0
PRODID:-//Don&#039;t Spill the Beans - ECPv6.15.20//NONSGML v1.0//EN
CALSCALE:GREGORIAN
METHOD:PUBLISH
X-WR-CALNAME:Don&#039;t Spill the Beans
X-ORIGINAL-URL:https://dontspillthebeans.net
X-WR-CALDESC:Events for Don&#039;t Spill the Beans
REFRESH-INTERVAL;VALUE=DURATION:PT1H
X-Robots-Tag:noindex
X-PUBLISHED-TTL:PT1H
BEGIN:VTIMEZONE
TZID:America/New_York
BEGIN:DAYLIGHT
TZOFFSETFROM:-0500
TZOFFSETTO:-0400
TZNAME:EDT
DTSTART:20250309T070000
END:DAYLIGHT
BEGIN:STANDARD
TZOFFSETFROM:-0400
TZOFFSETTO:-0500
TZNAME:EST
DTSTART:20251102T060000
END:STANDARD
BEGIN:DAYLIGHT
TZOFFSETFROM:-0500
TZOFFSETTO:-0400
TZNAME:EDT
DTSTART:20260308T070000
END:DAYLIGHT
BEGIN:STANDARD
TZOFFSETFROM:-0400
TZOFFSETTO:-0500
TZNAME:EST
DTSTART:20261101T060000
END:STANDARD
BEGIN:DAYLIGHT
TZOFFSETFROM:-0500
TZOFFSETTO:-0400
TZNAME:EDT
DTSTART:20270314T070000
END:DAYLIGHT
BEGIN:STANDARD
TZOFFSETFROM:-0400
TZOFFSETTO:-0500
TZNAME:EST
DTSTART:20271107T060000
END:STANDARD
END:VTIMEZONE
BEGIN:VEVENT
DTSTART;TZID=America/New_York:20260303T080000
DTEND;TZID=America/New_York:20260303T170000
DTSTAMP:20260421T223222
CREATED:20241119T200624Z
LAST-MODIFIED:20241119T200624Z
UID:10000070-1772524800-1772557200@dontspillthebeans.net
SUMMARY:Title
DESCRIPTION:Coming Soon!
URL:https://dontspillthebeans.net/event/title/2026-03-03/
END:VEVENT
BEGIN:VEVENT
DTSTART;TZID=America/New_York:20260310T080000
DTEND;TZID=America/New_York:20260310T170000
DTSTAMP:20260421T223223
CREATED:20241119T200624Z
LAST-MODIFIED:20241119T200624Z
UID:10000071-1773129600-1773162000@dontspillthebeans.net
SUMMARY:Title
DESCRIPTION:Coming Soon!
URL:https://dontspillthebeans.net/event/title/2026-03-10/
END:VEVENT
BEGIN:VEVENT
DTSTART;TZID=America/New_York:20260317T080000
DTEND;TZID=America/New_York:20260317T170000
DTSTAMP:20260421T223223
CREATED:20241119T200624Z
LAST-MODIFIED:20241119T200624Z
UID:10000072-1773734400-1773766800@dontspillthebeans.net
SUMMARY:Title
DESCRIPTION:Coming Soon!
URL:https://dontspillthebeans.net/event/title/2026-03-17/
END:VEVENT
BEGIN:VEVENT
DTSTART;TZID=America/New_York:20260324T080000
DTEND;TZID=America/New_York:20260324T170000
DTSTAMP:20260421T223223
CREATED:20241119T200624Z
LAST-MODIFIED:20241119T200624Z
UID:10000073-1774339200-1774371600@dontspillthebeans.net
SUMMARY:Title
DESCRIPTION:Coming Soon!
URL:https://dontspillthebeans.net/event/title/2026-03-24/
END:VEVENT
BEGIN:VEVENT
DTSTART;TZID=America/New_York:20260331T080000
DTEND;TZID=America/New_York:20260331T170000
DTSTAMP:20260421T223223
CREATED:20241119T200624Z
LAST-MODIFIED:20241119T200624Z
UID:10000074-1774944000-1774976400@dontspillthebeans.net
SUMMARY:Title
DESCRIPTION:Coming Soon!
URL:https://dontspillthebeans.net/event/title/2026-03-31/
END:VEVENT
END:VCALENDAR