BEGIN:VCALENDAR
VERSION:2.0
PRODID:-//Don&#039;t Spill the Beans - ECPv6.15.20//NONSGML v1.0//EN
CALSCALE:GREGORIAN
METHOD:PUBLISH
X-WR-CALNAME:Don&#039;t Spill the Beans
X-ORIGINAL-URL:https://dontspillthebeans.net
X-WR-CALDESC:Events for Don&#039;t Spill the Beans
REFRESH-INTERVAL;VALUE=DURATION:PT1H
X-Robots-Tag:noindex
X-PUBLISHED-TTL:PT1H
BEGIN:VTIMEZONE
TZID:America/New_York
BEGIN:DAYLIGHT
TZOFFSETFROM:-0500
TZOFFSETTO:-0400
TZNAME:EDT
DTSTART:20260308T070000
END:DAYLIGHT
BEGIN:STANDARD
TZOFFSETFROM:-0400
TZOFFSETTO:-0500
TZNAME:EST
DTSTART:20261101T060000
END:STANDARD
BEGIN:DAYLIGHT
TZOFFSETFROM:-0500
TZOFFSETTO:-0400
TZNAME:EDT
DTSTART:20270314T070000
END:DAYLIGHT
BEGIN:STANDARD
TZOFFSETFROM:-0400
TZOFFSETTO:-0500
TZNAME:EST
DTSTART:20271107T060000
END:STANDARD
BEGIN:DAYLIGHT
TZOFFSETFROM:-0500
TZOFFSETTO:-0400
TZNAME:EDT
DTSTART:20280312T070000
END:DAYLIGHT
BEGIN:STANDARD
TZOFFSETFROM:-0400
TZOFFSETTO:-0500
TZNAME:EST
DTSTART:20281105T060000
END:STANDARD
END:VTIMEZONE
BEGIN:VEVENT
DTSTART;TZID=America/New_York:20270608T080000
DTEND;TZID=America/New_York:20270608T170000
DTSTAMP:20260422T185717
CREATED:20241119T200624Z
LAST-MODIFIED:20241119T200624Z
UID:10000136-1812441600-1812474000@dontspillthebeans.net
SUMMARY:Title
DESCRIPTION:Coming Soon!
URL:https://dontspillthebeans.net/event/title/2027-06-08/
END:VEVENT
BEGIN:VEVENT
DTSTART;TZID=America/New_York:20270615T080000
DTEND;TZID=America/New_York:20270615T170000
DTSTAMP:20260422T185717
CREATED:20241119T200624Z
LAST-MODIFIED:20241119T200624Z
UID:10000137-1813046400-1813078800@dontspillthebeans.net
SUMMARY:Title
DESCRIPTION:Coming Soon!
URL:https://dontspillthebeans.net/event/title/2027-06-15/
END:VEVENT
BEGIN:VEVENT
DTSTART;TZID=America/New_York:20270622T080000
DTEND;TZID=America/New_York:20270622T170000
DTSTAMP:20260422T185717
CREATED:20241119T200624Z
LAST-MODIFIED:20241119T200624Z
UID:10000138-1813651200-1813683600@dontspillthebeans.net
SUMMARY:Title
DESCRIPTION:Coming Soon!
URL:https://dontspillthebeans.net/event/title/2027-06-22/
END:VEVENT
BEGIN:VEVENT
DTSTART;TZID=America/New_York:20270629T080000
DTEND;TZID=America/New_York:20270629T170000
DTSTAMP:20260422T185717
CREATED:20241119T200624Z
LAST-MODIFIED:20241119T200624Z
UID:10000139-1814256000-1814288400@dontspillthebeans.net
SUMMARY:Title
DESCRIPTION:Coming Soon!
URL:https://dontspillthebeans.net/event/title/2027-06-29/
END:VEVENT
BEGIN:VEVENT
DTSTART;TZID=America/New_York:20270706T080000
DTEND;TZID=America/New_York:20270706T170000
DTSTAMP:20260422T185717
CREATED:20241119T200624Z
LAST-MODIFIED:20241119T200624Z
UID:10000140-1814860800-1814893200@dontspillthebeans.net
SUMMARY:Title
DESCRIPTION:Coming Soon!
URL:https://dontspillthebeans.net/event/title/2027-07-06/
END:VEVENT
BEGIN:VEVENT
DTSTART;TZID=America/New_York:20270713T080000
DTEND;TZID=America/New_York:20270713T170000
DTSTAMP:20260422T185717
CREATED:20241119T200624Z
LAST-MODIFIED:20241119T200624Z
UID:10000141-1815465600-1815498000@dontspillthebeans.net
SUMMARY:Title
DESCRIPTION:Coming Soon!
URL:https://dontspillthebeans.net/event/title/2027-07-13/
END:VEVENT
BEGIN:VEVENT
DTSTART;TZID=America/New_York:20270720T080000
DTEND;TZID=America/New_York:20270720T170000
DTSTAMP:20260422T185717
CREATED:20241119T200624Z
LAST-MODIFIED:20241119T200624Z
UID:10000142-1816070400-1816102800@dontspillthebeans.net
SUMMARY:Title
DESCRIPTION:Coming Soon!
URL:https://dontspillthebeans.net/event/title/2027-07-20/
END:VEVENT
BEGIN:VEVENT
DTSTART;TZID=America/New_York:20270727T080000
DTEND;TZID=America/New_York:20270727T170000
DTSTAMP:20260422T185717
CREATED:20241119T200624Z
LAST-MODIFIED:20241119T200624Z
UID:10000143-1816675200-1816707600@dontspillthebeans.net
SUMMARY:Title
DESCRIPTION:Coming Soon!
URL:https://dontspillthebeans.net/event/title/2027-07-27/
END:VEVENT
BEGIN:VEVENT
DTSTART;TZID=America/New_York:20270803T080000
DTEND;TZID=America/New_York:20270803T170000
DTSTAMP:20260422T185717
CREATED:20241119T200624Z
LAST-MODIFIED:20241119T200624Z
UID:10000144-1817280000-1817312400@dontspillthebeans.net
SUMMARY:Title
DESCRIPTION:Coming Soon!
URL:https://dontspillthebeans.net/event/title/2027-08-03/
END:VEVENT
BEGIN:VEVENT
DTSTART;TZID=America/New_York:20270810T080000
DTEND;TZID=America/New_York:20270810T170000
DTSTAMP:20260422T185717
CREATED:20241119T200624Z
LAST-MODIFIED:20241119T200624Z
UID:10000145-1817884800-1817917200@dontspillthebeans.net
SUMMARY:Title
DESCRIPTION:Coming Soon!
URL:https://dontspillthebeans.net/event/title/2027-08-10/
END:VEVENT
BEGIN:VEVENT
DTSTART;TZID=America/New_York:20270817T080000
DTEND;TZID=America/New_York:20270817T170000
DTSTAMP:20260422T185717
CREATED:20241119T200624Z
LAST-MODIFIED:20241119T200624Z
UID:10000146-1818489600-1818522000@dontspillthebeans.net
SUMMARY:Title
DESCRIPTION:Coming Soon!
URL:https://dontspillthebeans.net/event/title/2027-08-17/
END:VEVENT
BEGIN:VEVENT
DTSTART;TZID=America/New_York:20270824T080000
DTEND;TZID=America/New_York:20270824T170000
DTSTAMP:20260422T185717
CREATED:20241119T200624Z
LAST-MODIFIED:20241119T200624Z
UID:10000147-1819094400-1819126800@dontspillthebeans.net
SUMMARY:Title
DESCRIPTION:Coming Soon!
URL:https://dontspillthebeans.net/event/title/2027-08-24/
END:VEVENT
BEGIN:VEVENT
DTSTART;TZID=America/New_York:20270831T080000
DTEND;TZID=America/New_York:20270831T170000
DTSTAMP:20260422T185717
CREATED:20241119T200624Z
LAST-MODIFIED:20241119T200624Z
UID:10000148-1819699200-1819731600@dontspillthebeans.net
SUMMARY:Title
DESCRIPTION:Coming Soon!
URL:https://dontspillthebeans.net/event/title/2027-08-31/
END:VEVENT
BEGIN:VEVENT
DTSTART;TZID=America/New_York:20270907T080000
DTEND;TZID=America/New_York:20270907T170000
DTSTAMP:20260422T185717
CREATED:20241119T200624Z
LAST-MODIFIED:20241119T200624Z
UID:10000149-1820304000-1820336400@dontspillthebeans.net
SUMMARY:Title
DESCRIPTION:Coming Soon!
URL:https://dontspillthebeans.net/event/title/2027-09-07/
END:VEVENT
BEGIN:VEVENT
DTSTART;TZID=America/New_York:20270914T080000
DTEND;TZID=America/New_York:20270914T170000
DTSTAMP:20260422T185717
CREATED:20241119T200624Z
LAST-MODIFIED:20241119T200624Z
UID:10000150-1820908800-1820941200@dontspillthebeans.net
SUMMARY:Title
DESCRIPTION:Coming Soon!
URL:https://dontspillthebeans.net/event/title/2027-09-14/
END:VEVENT
BEGIN:VEVENT
DTSTART;TZID=America/New_York:20270921T080000
DTEND;TZID=America/New_York:20270921T170000
DTSTAMP:20260422T185717
CREATED:20241119T200624Z
LAST-MODIFIED:20241119T200624Z
UID:10000151-1821513600-1821546000@dontspillthebeans.net
SUMMARY:Title
DESCRIPTION:Coming Soon!
URL:https://dontspillthebeans.net/event/title/2027-09-21/
END:VEVENT
BEGIN:VEVENT
DTSTART;TZID=America/New_York:20270928T080000
DTEND;TZID=America/New_York:20270928T170000
DTSTAMP:20260422T185717
CREATED:20241119T200624Z
LAST-MODIFIED:20241119T200624Z
UID:10000152-1822118400-1822150800@dontspillthebeans.net
SUMMARY:Title
DESCRIPTION:Coming Soon!
URL:https://dontspillthebeans.net/event/title/2027-09-28/
END:VEVENT
BEGIN:VEVENT
DTSTART;TZID=America/New_York:20271005T080000
DTEND;TZID=America/New_York:20271005T170000
DTSTAMP:20260422T185717
CREATED:20241119T200624Z
LAST-MODIFIED:20241119T200624Z
UID:10000153-1822723200-1822755600@dontspillthebeans.net
SUMMARY:Title
DESCRIPTION:Coming Soon!
URL:https://dontspillthebeans.net/event/title/2027-10-05/
END:VEVENT
BEGIN:VEVENT
DTSTART;TZID=America/New_York:20271012T080000
DTEND;TZID=America/New_York:20271012T170000
DTSTAMP:20260422T185717
CREATED:20241119T200624Z
LAST-MODIFIED:20241119T200624Z
UID:10000154-1823328000-1823360400@dontspillthebeans.net
SUMMARY:Title
DESCRIPTION:Coming Soon!
URL:https://dontspillthebeans.net/event/title/2027-10-12/
END:VEVENT
BEGIN:VEVENT
DTSTART;TZID=America/New_York:20271019T080000
DTEND;TZID=America/New_York:20271019T170000
DTSTAMP:20260422T185717
CREATED:20241119T200624Z
LAST-MODIFIED:20241119T200624Z
UID:10000155-1823932800-1823965200@dontspillthebeans.net
SUMMARY:Title
DESCRIPTION:Coming Soon!
URL:https://dontspillthebeans.net/event/title/2027-10-19/
END:VEVENT
BEGIN:VEVENT
DTSTART;TZID=America/New_York:20271026T080000
DTEND;TZID=America/New_York:20271026T170000
DTSTAMP:20260422T185717
CREATED:20241119T200624Z
LAST-MODIFIED:20241119T200624Z
UID:10000156-1824537600-1824570000@dontspillthebeans.net
SUMMARY:Title
DESCRIPTION:Coming Soon!
URL:https://dontspillthebeans.net/event/title/2027-10-26/
END:VEVENT
BEGIN:VEVENT
DTSTART;TZID=America/New_York:20271102T080000
DTEND;TZID=America/New_York:20271102T170000
DTSTAMP:20260422T185717
CREATED:20241119T200624Z
LAST-MODIFIED:20241119T200624Z
UID:10000157-1825142400-1825174800@dontspillthebeans.net
SUMMARY:Title
DESCRIPTION:Coming Soon!
URL:https://dontspillthebeans.net/event/title/2027-11-02/
END:VEVENT
BEGIN:VEVENT
DTSTART;TZID=America/New_York:20271109T080000
DTEND;TZID=America/New_York:20271109T170000
DTSTAMP:20260422T185717
CREATED:20241119T200624Z
LAST-MODIFIED:20241119T200624Z
UID:10000158-1825747200-1825779600@dontspillthebeans.net
SUMMARY:Title
DESCRIPTION:Coming Soon!
URL:https://dontspillthebeans.net/event/title/2027-11-09/
END:VEVENT
BEGIN:VEVENT
DTSTART;TZID=America/New_York:20271116T080000
DTEND;TZID=America/New_York:20271116T170000
DTSTAMP:20260422T185717
CREATED:20241119T200624Z
LAST-MODIFIED:20241119T200624Z
UID:10000159-1826352000-1826384400@dontspillthebeans.net
SUMMARY:Title
DESCRIPTION:Coming Soon!
URL:https://dontspillthebeans.net/event/title/2027-11-16/
END:VEVENT
BEGIN:VEVENT
DTSTART;TZID=America/New_York:20271123T080000
DTEND;TZID=America/New_York:20271123T170000
DTSTAMP:20260422T185717
CREATED:20241119T200624Z
LAST-MODIFIED:20241119T200624Z
UID:10000160-1826956800-1826989200@dontspillthebeans.net
SUMMARY:Title
DESCRIPTION:Coming Soon!
URL:https://dontspillthebeans.net/event/title/2027-11-23/
END:VEVENT
BEGIN:VEVENT
DTSTART;TZID=America/New_York:20271130T080000
DTEND;TZID=America/New_York:20271130T170000
DTSTAMP:20260422T185717
CREATED:20241119T200624Z
LAST-MODIFIED:20241119T200624Z
UID:10000161-1827561600-1827594000@dontspillthebeans.net
SUMMARY:Title
DESCRIPTION:Coming Soon!
URL:https://dontspillthebeans.net/event/title/2027-11-30/
END:VEVENT
BEGIN:VEVENT
DTSTART;TZID=America/New_York:20271207T080000
DTEND;TZID=America/New_York:20271207T170000
DTSTAMP:20260422T185717
CREATED:20241119T200624Z
LAST-MODIFIED:20241119T200624Z
UID:10000162-1828166400-1828198800@dontspillthebeans.net
SUMMARY:Title
DESCRIPTION:Coming Soon!
URL:https://dontspillthebeans.net/event/title/2027-12-07/
END:VEVENT
BEGIN:VEVENT
DTSTART;TZID=America/New_York:20271214T080000
DTEND;TZID=America/New_York:20271214T170000
DTSTAMP:20260422T185717
CREATED:20241119T200624Z
LAST-MODIFIED:20241119T200624Z
UID:10000163-1828771200-1828803600@dontspillthebeans.net
SUMMARY:Title
DESCRIPTION:Coming Soon!
URL:https://dontspillthebeans.net/event/title/2027-12-14/
END:VEVENT
BEGIN:VEVENT
DTSTART;TZID=America/New_York:20271221T080000
DTEND;TZID=America/New_York:20271221T170000
DTSTAMP:20260422T185717
CREATED:20241119T200624Z
LAST-MODIFIED:20241119T200624Z
UID:10000164-1829376000-1829408400@dontspillthebeans.net
SUMMARY:Title
DESCRIPTION:Coming Soon!
URL:https://dontspillthebeans.net/event/title/2027-12-21/
END:VEVENT
BEGIN:VEVENT
DTSTART;TZID=America/New_York:20271228T080000
DTEND;TZID=America/New_York:20271228T170000
DTSTAMP:20260422T185717
CREATED:20241119T200624Z
LAST-MODIFIED:20241119T200624Z
UID:10000165-1829980800-1830013200@dontspillthebeans.net
SUMMARY:Title
DESCRIPTION:Coming Soon!
URL:https://dontspillthebeans.net/event/title/2027-12-28/
END:VEVENT
END:VCALENDAR