BEGIN:VCALENDAR
VERSION:2.0
PRODID:-//Don&#039;t Spill the Beans - ECPv6.15.20//NONSGML v1.0//EN
CALSCALE:GREGORIAN
METHOD:PUBLISH
X-ORIGINAL-URL:https://dontspillthebeans.net
X-WR-CALDESC:Events for Don&#039;t Spill the Beans
REFRESH-INTERVAL;VALUE=DURATION:PT1H
X-Robots-Tag:noindex
X-PUBLISHED-TTL:PT1H
BEGIN:VTIMEZONE
TZID:America/New_York
BEGIN:DAYLIGHT
TZOFFSETFROM:-0500
TZOFFSETTO:-0400
TZNAME:EDT
DTSTART:20250309T070000
END:DAYLIGHT
BEGIN:STANDARD
TZOFFSETFROM:-0400
TZOFFSETTO:-0500
TZNAME:EST
DTSTART:20251102T060000
END:STANDARD
BEGIN:DAYLIGHT
TZOFFSETFROM:-0500
TZOFFSETTO:-0400
TZNAME:EDT
DTSTART:20260308T070000
END:DAYLIGHT
BEGIN:STANDARD
TZOFFSETFROM:-0400
TZOFFSETTO:-0500
TZNAME:EST
DTSTART:20261101T060000
END:STANDARD
BEGIN:DAYLIGHT
TZOFFSETFROM:-0500
TZOFFSETTO:-0400
TZNAME:EDT
DTSTART:20270314T070000
END:DAYLIGHT
BEGIN:STANDARD
TZOFFSETFROM:-0400
TZOFFSETTO:-0500
TZNAME:EST
DTSTART:20271107T060000
END:STANDARD
BEGIN:DAYLIGHT
TZOFFSETFROM:-0500
TZOFFSETTO:-0400
TZNAME:EDT
DTSTART:20280312T070000
END:DAYLIGHT
BEGIN:STANDARD
TZOFFSETFROM:-0400
TZOFFSETTO:-0500
TZNAME:EST
DTSTART:20281105T060000
END:STANDARD
END:VTIMEZONE
BEGIN:VEVENT
DTSTART;TZID=America/New_York:20260728T080000
DTEND;TZID=America/New_York:20260728T170000
DTSTAMP:20260422T175911
CREATED:20241119T200624Z
LAST-MODIFIED:20241119T200624Z
UID:10000091-1785225600-1785258000@dontspillthebeans.net
SUMMARY:Title
DESCRIPTION:Coming Soon!
URL:https://dontspillthebeans.net/event/title/2026-07-28/
END:VEVENT
BEGIN:VEVENT
DTSTART;TZID=America/New_York:20260804T080000
DTEND;TZID=America/New_York:20260804T170000
DTSTAMP:20260422T175911
CREATED:20241119T200624Z
LAST-MODIFIED:20241119T200624Z
UID:10000092-1785830400-1785862800@dontspillthebeans.net
SUMMARY:Title
DESCRIPTION:Coming Soon!
URL:https://dontspillthebeans.net/event/title/2026-08-04/
END:VEVENT
BEGIN:VEVENT
DTSTART;TZID=America/New_York:20260811T080000
DTEND;TZID=America/New_York:20260811T170000
DTSTAMP:20260422T175911
CREATED:20241119T200624Z
LAST-MODIFIED:20241119T200624Z
UID:10000093-1786435200-1786467600@dontspillthebeans.net
SUMMARY:Title
DESCRIPTION:Coming Soon!
URL:https://dontspillthebeans.net/event/title/2026-08-11/
END:VEVENT
BEGIN:VEVENT
DTSTART;TZID=America/New_York:20260818T080000
DTEND;TZID=America/New_York:20260818T170000
DTSTAMP:20260422T175911
CREATED:20241119T200624Z
LAST-MODIFIED:20241119T200624Z
UID:10000094-1787040000-1787072400@dontspillthebeans.net
SUMMARY:Title
DESCRIPTION:Coming Soon!
URL:https://dontspillthebeans.net/event/title/2026-08-18/
END:VEVENT
BEGIN:VEVENT
DTSTART;TZID=America/New_York:20260825T080000
DTEND;TZID=America/New_York:20260825T170000
DTSTAMP:20260422T175911
CREATED:20241119T200624Z
LAST-MODIFIED:20241119T200624Z
UID:10000095-1787644800-1787677200@dontspillthebeans.net
SUMMARY:Title
DESCRIPTION:Coming Soon!
URL:https://dontspillthebeans.net/event/title/2026-08-25/
END:VEVENT
BEGIN:VEVENT
DTSTART;TZID=America/New_York:20260901T080000
DTEND;TZID=America/New_York:20260901T170000
DTSTAMP:20260422T175911
CREATED:20241119T200624Z
LAST-MODIFIED:20241119T200624Z
UID:10000096-1788249600-1788282000@dontspillthebeans.net
SUMMARY:Title
DESCRIPTION:Coming Soon!
URL:https://dontspillthebeans.net/event/title/2026-09-01/
END:VEVENT
BEGIN:VEVENT
DTSTART;TZID=America/New_York:20260908T080000
DTEND;TZID=America/New_York:20260908T170000
DTSTAMP:20260422T175911
CREATED:20241119T200624Z
LAST-MODIFIED:20241119T200624Z
UID:10000097-1788854400-1788886800@dontspillthebeans.net
SUMMARY:Title
DESCRIPTION:Coming Soon!
URL:https://dontspillthebeans.net/event/title/2026-09-08/
END:VEVENT
BEGIN:VEVENT
DTSTART;TZID=America/New_York:20260915T080000
DTEND;TZID=America/New_York:20260915T170000
DTSTAMP:20260422T175911
CREATED:20241119T200624Z
LAST-MODIFIED:20241119T200624Z
UID:10000098-1789459200-1789491600@dontspillthebeans.net
SUMMARY:Title
DESCRIPTION:Coming Soon!
URL:https://dontspillthebeans.net/event/title/2026-09-15/
END:VEVENT
BEGIN:VEVENT
DTSTART;TZID=America/New_York:20260922T080000
DTEND;TZID=America/New_York:20260922T170000
DTSTAMP:20260422T175911
CREATED:20241119T200624Z
LAST-MODIFIED:20241119T200624Z
UID:10000099-1790064000-1790096400@dontspillthebeans.net
SUMMARY:Title
DESCRIPTION:Coming Soon!
URL:https://dontspillthebeans.net/event/title/2026-09-22/
END:VEVENT
BEGIN:VEVENT
DTSTART;TZID=America/New_York:20260929T080000
DTEND;TZID=America/New_York:20260929T170000
DTSTAMP:20260422T175911
CREATED:20241119T200624Z
LAST-MODIFIED:20241119T200624Z
UID:10000100-1790668800-1790701200@dontspillthebeans.net
SUMMARY:Title
DESCRIPTION:Coming Soon!
URL:https://dontspillthebeans.net/event/title/2026-09-29/
END:VEVENT
BEGIN:VEVENT
DTSTART;TZID=America/New_York:20261006T080000
DTEND;TZID=America/New_York:20261006T170000
DTSTAMP:20260422T175911
CREATED:20241119T200624Z
LAST-MODIFIED:20241119T200624Z
UID:10000101-1791273600-1791306000@dontspillthebeans.net
SUMMARY:Title
DESCRIPTION:Coming Soon!
URL:https://dontspillthebeans.net/event/title/2026-10-06/
END:VEVENT
BEGIN:VEVENT
DTSTART;TZID=America/New_York:20261013T080000
DTEND;TZID=America/New_York:20261013T170000
DTSTAMP:20260422T175911
CREATED:20241119T200624Z
LAST-MODIFIED:20241119T200624Z
UID:10000102-1791878400-1791910800@dontspillthebeans.net
SUMMARY:Title
DESCRIPTION:Coming Soon!
URL:https://dontspillthebeans.net/event/title/2026-10-13/
END:VEVENT
BEGIN:VEVENT
DTSTART;TZID=America/New_York:20261020T080000
DTEND;TZID=America/New_York:20261020T170000
DTSTAMP:20260422T175911
CREATED:20241119T200624Z
LAST-MODIFIED:20241119T200624Z
UID:10000103-1792483200-1792515600@dontspillthebeans.net
SUMMARY:Title
DESCRIPTION:Coming Soon!
URL:https://dontspillthebeans.net/event/title/2026-10-20/
END:VEVENT
BEGIN:VEVENT
DTSTART;TZID=America/New_York:20261027T080000
DTEND;TZID=America/New_York:20261027T170000
DTSTAMP:20260422T175911
CREATED:20241119T200624Z
LAST-MODIFIED:20241119T200624Z
UID:10000104-1793088000-1793120400@dontspillthebeans.net
SUMMARY:Title
DESCRIPTION:Coming Soon!
URL:https://dontspillthebeans.net/event/title/2026-10-27/
END:VEVENT
BEGIN:VEVENT
DTSTART;TZID=America/New_York:20261103T080000
DTEND;TZID=America/New_York:20261103T170000
DTSTAMP:20260422T175911
CREATED:20241119T200624Z
LAST-MODIFIED:20241119T200624Z
UID:10000105-1793692800-1793725200@dontspillthebeans.net
SUMMARY:Title
DESCRIPTION:Coming Soon!
URL:https://dontspillthebeans.net/event/title/2026-11-03/
END:VEVENT
BEGIN:VEVENT
DTSTART;TZID=America/New_York:20261110T080000
DTEND;TZID=America/New_York:20261110T170000
DTSTAMP:20260422T175911
CREATED:20241119T200624Z
LAST-MODIFIED:20241119T200624Z
UID:10000106-1794297600-1794330000@dontspillthebeans.net
SUMMARY:Title
DESCRIPTION:Coming Soon!
URL:https://dontspillthebeans.net/event/title/2026-11-10/
END:VEVENT
BEGIN:VEVENT
DTSTART;TZID=America/New_York:20261117T080000
DTEND;TZID=America/New_York:20261117T170000
DTSTAMP:20260422T175911
CREATED:20241119T200624Z
LAST-MODIFIED:20241119T200624Z
UID:10000107-1794902400-1794934800@dontspillthebeans.net
SUMMARY:Title
DESCRIPTION:Coming Soon!
URL:https://dontspillthebeans.net/event/title/2026-11-17/
END:VEVENT
BEGIN:VEVENT
DTSTART;TZID=America/New_York:20261124T080000
DTEND;TZID=America/New_York:20261124T170000
DTSTAMP:20260422T175911
CREATED:20241119T200624Z
LAST-MODIFIED:20241119T200624Z
UID:10000108-1795507200-1795539600@dontspillthebeans.net
SUMMARY:Title
DESCRIPTION:Coming Soon!
URL:https://dontspillthebeans.net/event/title/2026-11-24/
END:VEVENT
BEGIN:VEVENT
DTSTART;TZID=America/New_York:20261201T080000
DTEND;TZID=America/New_York:20261201T170000
DTSTAMP:20260422T175911
CREATED:20241119T200624Z
LAST-MODIFIED:20241119T200624Z
UID:10000109-1796112000-1796144400@dontspillthebeans.net
SUMMARY:Title
DESCRIPTION:Coming Soon!
URL:https://dontspillthebeans.net/event/title/2026-12-01/
END:VEVENT
BEGIN:VEVENT
DTSTART;TZID=America/New_York:20261208T080000
DTEND;TZID=America/New_York:20261208T170000
DTSTAMP:20260422T175911
CREATED:20241119T200624Z
LAST-MODIFIED:20241119T200624Z
UID:10000110-1796716800-1796749200@dontspillthebeans.net
SUMMARY:Title
DESCRIPTION:Coming Soon!
URL:https://dontspillthebeans.net/event/title/2026-12-08/
END:VEVENT
BEGIN:VEVENT
DTSTART;TZID=America/New_York:20261215T080000
DTEND;TZID=America/New_York:20261215T170000
DTSTAMP:20260422T175911
CREATED:20241119T200624Z
LAST-MODIFIED:20241119T200624Z
UID:10000111-1797321600-1797354000@dontspillthebeans.net
SUMMARY:Title
DESCRIPTION:Coming Soon!
URL:https://dontspillthebeans.net/event/title/2026-12-15/
END:VEVENT
BEGIN:VEVENT
DTSTART;TZID=America/New_York:20261222T080000
DTEND;TZID=America/New_York:20261222T170000
DTSTAMP:20260422T175911
CREATED:20241119T200624Z
LAST-MODIFIED:20241119T200624Z
UID:10000112-1797926400-1797958800@dontspillthebeans.net
SUMMARY:Title
DESCRIPTION:Coming Soon!
URL:https://dontspillthebeans.net/event/title/2026-12-22/
END:VEVENT
BEGIN:VEVENT
DTSTART;TZID=America/New_York:20261229T080000
DTEND;TZID=America/New_York:20261229T170000
DTSTAMP:20260422T175911
CREATED:20241119T200624Z
LAST-MODIFIED:20241119T200624Z
UID:10000113-1798531200-1798563600@dontspillthebeans.net
SUMMARY:Title
DESCRIPTION:Coming Soon!
URL:https://dontspillthebeans.net/event/title/2026-12-29/
END:VEVENT
BEGIN:VEVENT
DTSTART;TZID=America/New_York:20270105T080000
DTEND;TZID=America/New_York:20270105T170000
DTSTAMP:20260422T175911
CREATED:20241119T200624Z
LAST-MODIFIED:20241119T200624Z
UID:10000114-1799136000-1799168400@dontspillthebeans.net
SUMMARY:Title
DESCRIPTION:Coming Soon!
URL:https://dontspillthebeans.net/event/title/2027-01-05/
END:VEVENT
BEGIN:VEVENT
DTSTART;TZID=America/New_York:20270112T080000
DTEND;TZID=America/New_York:20270112T170000
DTSTAMP:20260422T175911
CREATED:20241119T200624Z
LAST-MODIFIED:20241119T200624Z
UID:10000115-1799740800-1799773200@dontspillthebeans.net
SUMMARY:Title
DESCRIPTION:Coming Soon!
URL:https://dontspillthebeans.net/event/title/2027-01-12/
END:VEVENT
BEGIN:VEVENT
DTSTART;TZID=America/New_York:20270119T080000
DTEND;TZID=America/New_York:20270119T170000
DTSTAMP:20260422T175911
CREATED:20241119T200624Z
LAST-MODIFIED:20241119T200624Z
UID:10000116-1800345600-1800378000@dontspillthebeans.net
SUMMARY:Title
DESCRIPTION:Coming Soon!
URL:https://dontspillthebeans.net/event/title/2027-01-19/
END:VEVENT
BEGIN:VEVENT
DTSTART;TZID=America/New_York:20270126T080000
DTEND;TZID=America/New_York:20270126T170000
DTSTAMP:20260422T175911
CREATED:20241119T200624Z
LAST-MODIFIED:20241119T200624Z
UID:10000117-1800950400-1800982800@dontspillthebeans.net
SUMMARY:Title
DESCRIPTION:Coming Soon!
URL:https://dontspillthebeans.net/event/title/2027-01-26/
END:VEVENT
BEGIN:VEVENT
DTSTART;TZID=America/New_York:20270202T080000
DTEND;TZID=America/New_York:20270202T170000
DTSTAMP:20260422T175911
CREATED:20241119T200624Z
LAST-MODIFIED:20241119T200624Z
UID:10000118-1801555200-1801587600@dontspillthebeans.net
SUMMARY:Title
DESCRIPTION:Coming Soon!
URL:https://dontspillthebeans.net/event/title/2027-02-02/
END:VEVENT
BEGIN:VEVENT
DTSTART;TZID=America/New_York:20270209T080000
DTEND;TZID=America/New_York:20270209T170000
DTSTAMP:20260422T175911
CREATED:20241119T200624Z
LAST-MODIFIED:20241119T200624Z
UID:10000119-1802160000-1802192400@dontspillthebeans.net
SUMMARY:Title
DESCRIPTION:Coming Soon!
URL:https://dontspillthebeans.net/event/title/2027-02-09/
END:VEVENT
BEGIN:VEVENT
DTSTART;TZID=America/New_York:20270216T080000
DTEND;TZID=America/New_York:20270216T170000
DTSTAMP:20260422T175911
CREATED:20241119T200624Z
LAST-MODIFIED:20241119T200624Z
UID:10000120-1802764800-1802797200@dontspillthebeans.net
SUMMARY:Title
DESCRIPTION:Coming Soon!
URL:https://dontspillthebeans.net/event/title/2027-02-16/
END:VEVENT
END:VCALENDAR