BEGIN:VCALENDAR
VERSION:2.0
PRODID:-//Don&#039;t Spill the Beans - ECPv6.15.20//NONSGML v1.0//EN
CALSCALE:GREGORIAN
METHOD:PUBLISH
X-WR-CALNAME:Don&#039;t Spill the Beans
X-ORIGINAL-URL:https://dontspillthebeans.net
X-WR-CALDESC:Events for Don&#039;t Spill the Beans
REFRESH-INTERVAL;VALUE=DURATION:PT1H
X-Robots-Tag:noindex
X-PUBLISHED-TTL:PT1H
BEGIN:VTIMEZONE
TZID:America/New_York
BEGIN:DAYLIGHT
TZOFFSETFROM:-0500
TZOFFSETTO:-0400
TZNAME:EDT
DTSTART:20240310T070000
END:DAYLIGHT
BEGIN:STANDARD
TZOFFSETFROM:-0400
TZOFFSETTO:-0500
TZNAME:EST
DTSTART:20241103T060000
END:STANDARD
BEGIN:DAYLIGHT
TZOFFSETFROM:-0500
TZOFFSETTO:-0400
TZNAME:EDT
DTSTART:20250309T070000
END:DAYLIGHT
BEGIN:STANDARD
TZOFFSETFROM:-0400
TZOFFSETTO:-0500
TZNAME:EST
DTSTART:20251102T060000
END:STANDARD
BEGIN:DAYLIGHT
TZOFFSETFROM:-0500
TZOFFSETTO:-0400
TZNAME:EDT
DTSTART:20260308T070000
END:DAYLIGHT
BEGIN:STANDARD
TZOFFSETFROM:-0400
TZOFFSETTO:-0500
TZNAME:EST
DTSTART:20261101T060000
END:STANDARD
END:VTIMEZONE
BEGIN:VEVENT
DTSTART;TZID=America/New_York:20251007T080000
DTEND;TZID=America/New_York:20251007T170000
DTSTAMP:20260422T184634
CREATED:20241119T200624Z
LAST-MODIFIED:20241119T200624Z
UID:10000049-1759824000-1759856400@dontspillthebeans.net
SUMMARY:Title
DESCRIPTION:Coming Soon!
URL:https://dontspillthebeans.net/event/title/2025-10-07/
END:VEVENT
BEGIN:VEVENT
DTSTART;TZID=America/New_York:20250930T080000
DTEND;TZID=America/New_York:20250930T170000
DTSTAMP:20260422T184634
CREATED:20241119T200624Z
LAST-MODIFIED:20241119T200624Z
UID:10000048-1759219200-1759251600@dontspillthebeans.net
SUMMARY:Title
DESCRIPTION:Coming Soon!
URL:https://dontspillthebeans.net/event/title/2025-09-30/
END:VEVENT
BEGIN:VEVENT
DTSTART;TZID=America/New_York:20250923T080000
DTEND;TZID=America/New_York:20250923T170000
DTSTAMP:20260422T184634
CREATED:20241119T200624Z
LAST-MODIFIED:20241119T200624Z
UID:10000047-1758614400-1758646800@dontspillthebeans.net
SUMMARY:Title
DESCRIPTION:Coming Soon!
URL:https://dontspillthebeans.net/event/title/2025-09-23/
END:VEVENT
BEGIN:VEVENT
DTSTART;TZID=America/New_York:20250916T080000
DTEND;TZID=America/New_York:20250916T170000
DTSTAMP:20260422T184634
CREATED:20241119T200624Z
LAST-MODIFIED:20241119T200624Z
UID:10000046-1758009600-1758042000@dontspillthebeans.net
SUMMARY:Title
DESCRIPTION:Coming Soon!
URL:https://dontspillthebeans.net/event/title/2025-09-16/
END:VEVENT
BEGIN:VEVENT
DTSTART;TZID=America/New_York:20250909T080000
DTEND;TZID=America/New_York:20250909T170000
DTSTAMP:20260422T184634
CREATED:20241119T200624Z
LAST-MODIFIED:20241119T200624Z
UID:10000045-1757404800-1757437200@dontspillthebeans.net
SUMMARY:Title
DESCRIPTION:Coming Soon!
URL:https://dontspillthebeans.net/event/title/2025-09-09/
END:VEVENT
BEGIN:VEVENT
DTSTART;TZID=America/New_York:20250902T080000
DTEND;TZID=America/New_York:20250902T170000
DTSTAMP:20260422T184634
CREATED:20241119T200624Z
LAST-MODIFIED:20241119T200624Z
UID:10000044-1756800000-1756832400@dontspillthebeans.net
SUMMARY:Title
DESCRIPTION:Coming Soon!
URL:https://dontspillthebeans.net/event/title/2025-09-02/
END:VEVENT
BEGIN:VEVENT
DTSTART;TZID=America/New_York:20250826T080000
DTEND;TZID=America/New_York:20250826T170000
DTSTAMP:20260422T184634
CREATED:20241119T200624Z
LAST-MODIFIED:20241119T200624Z
UID:10000043-1756195200-1756227600@dontspillthebeans.net
SUMMARY:Title
DESCRIPTION:Coming Soon!
URL:https://dontspillthebeans.net/event/title/2025-08-26/
END:VEVENT
BEGIN:VEVENT
DTSTART;TZID=America/New_York:20250819T080000
DTEND;TZID=America/New_York:20250819T170000
DTSTAMP:20260422T184634
CREATED:20241119T200624Z
LAST-MODIFIED:20241119T200624Z
UID:10000042-1755590400-1755622800@dontspillthebeans.net
SUMMARY:Title
DESCRIPTION:Coming Soon!
URL:https://dontspillthebeans.net/event/title/2025-08-19/
END:VEVENT
BEGIN:VEVENT
DTSTART;TZID=America/New_York:20250812T080000
DTEND;TZID=America/New_York:20250812T170000
DTSTAMP:20260422T184634
CREATED:20241119T200624Z
LAST-MODIFIED:20241119T200624Z
UID:10000041-1754985600-1755018000@dontspillthebeans.net
SUMMARY:Title
DESCRIPTION:Coming Soon!
URL:https://dontspillthebeans.net/event/title/2025-08-12/
END:VEVENT
BEGIN:VEVENT
DTSTART;TZID=America/New_York:20250805T080000
DTEND;TZID=America/New_York:20250805T170000
DTSTAMP:20260422T184634
CREATED:20241119T200624Z
LAST-MODIFIED:20241119T200624Z
UID:10000040-1754380800-1754413200@dontspillthebeans.net
SUMMARY:Title
DESCRIPTION:Coming Soon!
URL:https://dontspillthebeans.net/event/title/2025-08-05/
END:VEVENT
BEGIN:VEVENT
DTSTART;TZID=America/New_York:20250729T080000
DTEND;TZID=America/New_York:20250729T170000
DTSTAMP:20260422T184634
CREATED:20241119T200624Z
LAST-MODIFIED:20241119T200624Z
UID:10000039-1753776000-1753808400@dontspillthebeans.net
SUMMARY:Title
DESCRIPTION:Coming Soon!
URL:https://dontspillthebeans.net/event/title/2025-07-29/
END:VEVENT
BEGIN:VEVENT
DTSTART;TZID=America/New_York:20250722T080000
DTEND;TZID=America/New_York:20250722T170000
DTSTAMP:20260422T184634
CREATED:20241119T200624Z
LAST-MODIFIED:20241119T200624Z
UID:10000038-1753171200-1753203600@dontspillthebeans.net
SUMMARY:Title
DESCRIPTION:Coming Soon!
URL:https://dontspillthebeans.net/event/title/2025-07-22/
END:VEVENT
BEGIN:VEVENT
DTSTART;TZID=America/New_York:20250715T080000
DTEND;TZID=America/New_York:20250715T170000
DTSTAMP:20260422T184634
CREATED:20241119T200624Z
LAST-MODIFIED:20241119T200624Z
UID:10000037-1752566400-1752598800@dontspillthebeans.net
SUMMARY:Title
DESCRIPTION:Coming Soon!
URL:https://dontspillthebeans.net/event/title/2025-07-15/
END:VEVENT
BEGIN:VEVENT
DTSTART;TZID=America/New_York:20250708T080000
DTEND;TZID=America/New_York:20250708T170000
DTSTAMP:20260422T184634
CREATED:20241119T200624Z
LAST-MODIFIED:20241119T200624Z
UID:10000036-1751961600-1751994000@dontspillthebeans.net
SUMMARY:Title
DESCRIPTION:Coming Soon!
URL:https://dontspillthebeans.net/event/title/2025-07-08/
END:VEVENT
BEGIN:VEVENT
DTSTART;TZID=America/New_York:20250701T080000
DTEND;TZID=America/New_York:20250701T170000
DTSTAMP:20260422T184634
CREATED:20241119T200624Z
LAST-MODIFIED:20241119T200624Z
UID:10000035-1751356800-1751389200@dontspillthebeans.net
SUMMARY:Title
DESCRIPTION:Coming Soon!
URL:https://dontspillthebeans.net/event/title/2025-07-01/
END:VEVENT
BEGIN:VEVENT
DTSTART;TZID=America/New_York:20250624T080000
DTEND;TZID=America/New_York:20250624T170000
DTSTAMP:20260422T184634
CREATED:20241119T200624Z
LAST-MODIFIED:20241119T200624Z
UID:10000034-1750752000-1750784400@dontspillthebeans.net
SUMMARY:Title
DESCRIPTION:Coming Soon!
URL:https://dontspillthebeans.net/event/title/2025-06-24/
END:VEVENT
BEGIN:VEVENT
DTSTART;TZID=America/New_York:20250617T080000
DTEND;TZID=America/New_York:20250617T170000
DTSTAMP:20260422T184634
CREATED:20241119T200624Z
LAST-MODIFIED:20241119T200624Z
UID:10000033-1750147200-1750179600@dontspillthebeans.net
SUMMARY:Title
DESCRIPTION:Coming Soon!
URL:https://dontspillthebeans.net/event/title/2025-06-17/
END:VEVENT
BEGIN:VEVENT
DTSTART;TZID=America/New_York:20250610T080000
DTEND;TZID=America/New_York:20250610T170000
DTSTAMP:20260422T184634
CREATED:20241119T200624Z
LAST-MODIFIED:20241119T200624Z
UID:10000032-1749542400-1749574800@dontspillthebeans.net
SUMMARY:Title
DESCRIPTION:Coming Soon!
URL:https://dontspillthebeans.net/event/title/2025-06-10/
END:VEVENT
BEGIN:VEVENT
DTSTART;TZID=America/New_York:20250603T080000
DTEND;TZID=America/New_York:20250603T170000
DTSTAMP:20260422T184634
CREATED:20241119T200624Z
LAST-MODIFIED:20241119T200624Z
UID:10000031-1748937600-1748970000@dontspillthebeans.net
SUMMARY:Title
DESCRIPTION:Coming Soon!
URL:https://dontspillthebeans.net/event/title/2025-06-03/
END:VEVENT
BEGIN:VEVENT
DTSTART;TZID=America/New_York:20250527T080000
DTEND;TZID=America/New_York:20250527T170000
DTSTAMP:20260422T184634
CREATED:20241119T200624Z
LAST-MODIFIED:20241119T200624Z
UID:10000030-1748332800-1748365200@dontspillthebeans.net
SUMMARY:Title
DESCRIPTION:Coming Soon!
URL:https://dontspillthebeans.net/event/title/2025-05-27/
END:VEVENT
BEGIN:VEVENT
DTSTART;TZID=America/New_York:20250520T080000
DTEND;TZID=America/New_York:20250520T170000
DTSTAMP:20260422T184634
CREATED:20241119T200624Z
LAST-MODIFIED:20241119T200624Z
UID:10000029-1747728000-1747760400@dontspillthebeans.net
SUMMARY:Title
DESCRIPTION:Coming Soon!
URL:https://dontspillthebeans.net/event/title/2025-05-20/
END:VEVENT
BEGIN:VEVENT
DTSTART;TZID=America/New_York:20250513T080000
DTEND;TZID=America/New_York:20250513T170000
DTSTAMP:20260422T184634
CREATED:20241119T200624Z
LAST-MODIFIED:20241119T200624Z
UID:10000028-1747123200-1747155600@dontspillthebeans.net
SUMMARY:Title
DESCRIPTION:Coming Soon!
URL:https://dontspillthebeans.net/event/title/2025-05-13/
END:VEVENT
BEGIN:VEVENT
DTSTART;TZID=America/New_York:20250506T080000
DTEND;TZID=America/New_York:20250506T170000
DTSTAMP:20260422T184634
CREATED:20241119T200624Z
LAST-MODIFIED:20241119T200624Z
UID:10000027-1746518400-1746550800@dontspillthebeans.net
SUMMARY:Title
DESCRIPTION:Coming Soon!
URL:https://dontspillthebeans.net/event/title/2025-05-06/
END:VEVENT
BEGIN:VEVENT
DTSTART;TZID=America/New_York:20250429T080000
DTEND;TZID=America/New_York:20250429T170000
DTSTAMP:20260422T184634
CREATED:20241119T200624Z
LAST-MODIFIED:20241119T200624Z
UID:10000026-1745913600-1745946000@dontspillthebeans.net
SUMMARY:Title
DESCRIPTION:Coming Soon!
URL:https://dontspillthebeans.net/event/title/2025-04-29/
END:VEVENT
BEGIN:VEVENT
DTSTART;TZID=America/New_York:20250422T080000
DTEND;TZID=America/New_York:20250422T170000
DTSTAMP:20260422T184634
CREATED:20241119T200624Z
LAST-MODIFIED:20241119T200624Z
UID:10000025-1745308800-1745341200@dontspillthebeans.net
SUMMARY:Title
DESCRIPTION:Coming Soon!
URL:https://dontspillthebeans.net/event/title/2025-04-22/
END:VEVENT
BEGIN:VEVENT
DTSTART;TZID=America/New_York:20250415T080000
DTEND;TZID=America/New_York:20250415T170000
DTSTAMP:20260422T184634
CREATED:20241119T200624Z
LAST-MODIFIED:20241119T200624Z
UID:10000024-1744704000-1744736400@dontspillthebeans.net
SUMMARY:Title
DESCRIPTION:Coming Soon!
URL:https://dontspillthebeans.net/event/title/2025-04-15/
END:VEVENT
BEGIN:VEVENT
DTSTART;TZID=America/New_York:20250408T080000
DTEND;TZID=America/New_York:20250408T170000
DTSTAMP:20260422T184634
CREATED:20241119T200624Z
LAST-MODIFIED:20241119T200624Z
UID:10000023-1744099200-1744131600@dontspillthebeans.net
SUMMARY:Title
DESCRIPTION:Coming Soon!
URL:https://dontspillthebeans.net/event/title/2025-04-08/
END:VEVENT
BEGIN:VEVENT
DTSTART;TZID=America/New_York:20250401T080000
DTEND;TZID=America/New_York:20250401T170000
DTSTAMP:20260422T184634
CREATED:20241119T200624Z
LAST-MODIFIED:20241119T200624Z
UID:10000022-1743494400-1743526800@dontspillthebeans.net
SUMMARY:Title
DESCRIPTION:Coming Soon!
URL:https://dontspillthebeans.net/event/title/2025-04-01/
END:VEVENT
BEGIN:VEVENT
DTSTART;TZID=America/New_York:20250325T080000
DTEND;TZID=America/New_York:20250325T170000
DTSTAMP:20260422T184634
CREATED:20241119T200624Z
LAST-MODIFIED:20241119T200624Z
UID:10000021-1742889600-1742922000@dontspillthebeans.net
SUMMARY:Title
DESCRIPTION:Coming Soon!
URL:https://dontspillthebeans.net/event/title/2025-03-25/
END:VEVENT
BEGIN:VEVENT
DTSTART;TZID=America/New_York:20250318T080000
DTEND;TZID=America/New_York:20250318T170000
DTSTAMP:20260422T184634
CREATED:20241119T200624Z
LAST-MODIFIED:20241119T200624Z
UID:10000020-1742284800-1742317200@dontspillthebeans.net
SUMMARY:Title
DESCRIPTION:Coming Soon!
URL:https://dontspillthebeans.net/event/title/2025-03-18/
END:VEVENT
END:VCALENDAR