BEGIN:VCALENDAR
VERSION:2.0
PRODID:-//Don&#039;t Spill the Beans - ECPv6.15.20//NONSGML v1.0//EN
CALSCALE:GREGORIAN
METHOD:PUBLISH
X-WR-CALNAME:Don&#039;t Spill the Beans
X-ORIGINAL-URL:https://dontspillthebeans.net
X-WR-CALDESC:Events for Don&#039;t Spill the Beans
REFRESH-INTERVAL;VALUE=DURATION:PT1H
X-Robots-Tag:noindex
X-PUBLISHED-TTL:PT1H
BEGIN:VTIMEZONE
TZID:America/New_York
BEGIN:DAYLIGHT
TZOFFSETFROM:-0500
TZOFFSETTO:-0400
TZNAME:EDT
DTSTART:20240310T070000
END:DAYLIGHT
BEGIN:STANDARD
TZOFFSETFROM:-0400
TZOFFSETTO:-0500
TZNAME:EST
DTSTART:20241103T060000
END:STANDARD
BEGIN:DAYLIGHT
TZOFFSETFROM:-0500
TZOFFSETTO:-0400
TZNAME:EDT
DTSTART:20250309T070000
END:DAYLIGHT
BEGIN:STANDARD
TZOFFSETFROM:-0400
TZOFFSETTO:-0500
TZNAME:EST
DTSTART:20251102T060000
END:STANDARD
BEGIN:DAYLIGHT
TZOFFSETFROM:-0500
TZOFFSETTO:-0400
TZNAME:EDT
DTSTART:20260308T070000
END:DAYLIGHT
BEGIN:STANDARD
TZOFFSETFROM:-0400
TZOFFSETTO:-0500
TZNAME:EST
DTSTART:20261101T060000
END:STANDARD
BEGIN:DAYLIGHT
TZOFFSETFROM:-0500
TZOFFSETTO:-0400
TZNAME:EDT
DTSTART:20270314T070000
END:DAYLIGHT
BEGIN:STANDARD
TZOFFSETFROM:-0400
TZOFFSETTO:-0500
TZNAME:EST
DTSTART:20271107T060000
END:STANDARD
END:VTIMEZONE
BEGIN:VEVENT
DTSTART;TZID=America/New_York:20260303T080000
DTEND;TZID=America/New_York:20260303T170000
DTSTAMP:20260422T175909
CREATED:20241119T200624Z
LAST-MODIFIED:20241119T200624Z
UID:10000070-1772524800-1772557200@dontspillthebeans.net
SUMMARY:Title
DESCRIPTION:Coming Soon!
URL:https://dontspillthebeans.net/event/title/2026-03-03/
END:VEVENT
BEGIN:VEVENT
DTSTART;TZID=America/New_York:20260224T080000
DTEND;TZID=America/New_York:20260224T170000
DTSTAMP:20260422T175909
CREATED:20241119T200624Z
LAST-MODIFIED:20241119T200624Z
UID:10000069-1771920000-1771952400@dontspillthebeans.net
SUMMARY:Title
DESCRIPTION:Coming Soon!
URL:https://dontspillthebeans.net/event/title/2026-02-24/
END:VEVENT
BEGIN:VEVENT
DTSTART;TZID=America/New_York:20260217T080000
DTEND;TZID=America/New_York:20260217T170000
DTSTAMP:20260422T175909
CREATED:20241119T200624Z
LAST-MODIFIED:20241119T200624Z
UID:10000068-1771315200-1771347600@dontspillthebeans.net
SUMMARY:Title
DESCRIPTION:Coming Soon!
URL:https://dontspillthebeans.net/event/title/2026-02-17/
END:VEVENT
BEGIN:VEVENT
DTSTART;TZID=America/New_York:20260210T080000
DTEND;TZID=America/New_York:20260210T170000
DTSTAMP:20260422T175909
CREATED:20241119T200624Z
LAST-MODIFIED:20241119T200624Z
UID:10000067-1770710400-1770742800@dontspillthebeans.net
SUMMARY:Title
DESCRIPTION:Coming Soon!
URL:https://dontspillthebeans.net/event/title/2026-02-10/
END:VEVENT
BEGIN:VEVENT
DTSTART;TZID=America/New_York:20260203T080000
DTEND;TZID=America/New_York:20260203T170000
DTSTAMP:20260422T175909
CREATED:20241119T200624Z
LAST-MODIFIED:20241119T200624Z
UID:10000066-1770105600-1770138000@dontspillthebeans.net
SUMMARY:Title
DESCRIPTION:Coming Soon!
URL:https://dontspillthebeans.net/event/title/2026-02-03/
END:VEVENT
BEGIN:VEVENT
DTSTART;TZID=America/New_York:20260127T080000
DTEND;TZID=America/New_York:20260127T170000
DTSTAMP:20260422T175909
CREATED:20241119T200624Z
LAST-MODIFIED:20241119T200624Z
UID:10000065-1769500800-1769533200@dontspillthebeans.net
SUMMARY:Title
DESCRIPTION:Coming Soon!
URL:https://dontspillthebeans.net/event/title/2026-01-27/
END:VEVENT
BEGIN:VEVENT
DTSTART;TZID=America/New_York:20260120T080000
DTEND;TZID=America/New_York:20260120T170000
DTSTAMP:20260422T175909
CREATED:20241119T200624Z
LAST-MODIFIED:20241119T200624Z
UID:10000064-1768896000-1768928400@dontspillthebeans.net
SUMMARY:Title
DESCRIPTION:Coming Soon!
URL:https://dontspillthebeans.net/event/title/2026-01-20/
END:VEVENT
BEGIN:VEVENT
DTSTART;TZID=America/New_York:20260113T080000
DTEND;TZID=America/New_York:20260113T170000
DTSTAMP:20260422T175909
CREATED:20241119T200624Z
LAST-MODIFIED:20241119T200624Z
UID:10000063-1768291200-1768323600@dontspillthebeans.net
SUMMARY:Title
DESCRIPTION:Coming Soon!
URL:https://dontspillthebeans.net/event/title/2026-01-13/
END:VEVENT
BEGIN:VEVENT
DTSTART;TZID=America/New_York:20260106T080000
DTEND;TZID=America/New_York:20260106T170000
DTSTAMP:20260422T175909
CREATED:20241119T200624Z
LAST-MODIFIED:20241119T200624Z
UID:10000062-1767686400-1767718800@dontspillthebeans.net
SUMMARY:Title
DESCRIPTION:Coming Soon!
URL:https://dontspillthebeans.net/event/title/2026-01-06/
END:VEVENT
BEGIN:VEVENT
DTSTART;TZID=America/New_York:20251230T080000
DTEND;TZID=America/New_York:20251230T170000
DTSTAMP:20260422T175909
CREATED:20241119T200624Z
LAST-MODIFIED:20241119T200624Z
UID:10000061-1767081600-1767114000@dontspillthebeans.net
SUMMARY:Title
DESCRIPTION:Coming Soon!
URL:https://dontspillthebeans.net/event/title/2025-12-30/
END:VEVENT
BEGIN:VEVENT
DTSTART;TZID=America/New_York:20251223T080000
DTEND;TZID=America/New_York:20251223T170000
DTSTAMP:20260422T175909
CREATED:20241119T200624Z
LAST-MODIFIED:20241119T200624Z
UID:10000060-1766476800-1766509200@dontspillthebeans.net
SUMMARY:Title
DESCRIPTION:Coming Soon!
URL:https://dontspillthebeans.net/event/title/2025-12-23/
END:VEVENT
BEGIN:VEVENT
DTSTART;TZID=America/New_York:20251216T080000
DTEND;TZID=America/New_York:20251216T170000
DTSTAMP:20260422T175909
CREATED:20241119T200624Z
LAST-MODIFIED:20241119T200624Z
UID:10000059-1765872000-1765904400@dontspillthebeans.net
SUMMARY:Title
DESCRIPTION:Coming Soon!
URL:https://dontspillthebeans.net/event/title/2025-12-16/
END:VEVENT
BEGIN:VEVENT
DTSTART;TZID=America/New_York:20251209T080000
DTEND;TZID=America/New_York:20251209T170000
DTSTAMP:20260422T175909
CREATED:20241119T200624Z
LAST-MODIFIED:20241119T200624Z
UID:10000058-1765267200-1765299600@dontspillthebeans.net
SUMMARY:Title
DESCRIPTION:Coming Soon!
URL:https://dontspillthebeans.net/event/title/2025-12-09/
END:VEVENT
BEGIN:VEVENT
DTSTART;TZID=America/New_York:20251202T080000
DTEND;TZID=America/New_York:20251202T170000
DTSTAMP:20260422T175909
CREATED:20241119T200624Z
LAST-MODIFIED:20241119T200624Z
UID:10000057-1764662400-1764694800@dontspillthebeans.net
SUMMARY:Title
DESCRIPTION:Coming Soon!
URL:https://dontspillthebeans.net/event/title/2025-12-02/
END:VEVENT
BEGIN:VEVENT
DTSTART;TZID=America/New_York:20251125T080000
DTEND;TZID=America/New_York:20251125T170000
DTSTAMP:20260422T175909
CREATED:20241119T200624Z
LAST-MODIFIED:20241119T200624Z
UID:10000056-1764057600-1764090000@dontspillthebeans.net
SUMMARY:Title
DESCRIPTION:Coming Soon!
URL:https://dontspillthebeans.net/event/title/2025-11-25/
END:VEVENT
BEGIN:VEVENT
DTSTART;TZID=America/New_York:20251118T080000
DTEND;TZID=America/New_York:20251118T170000
DTSTAMP:20260422T175909
CREATED:20241119T200624Z
LAST-MODIFIED:20241119T200624Z
UID:10000055-1763452800-1763485200@dontspillthebeans.net
SUMMARY:Title
DESCRIPTION:Coming Soon!
URL:https://dontspillthebeans.net/event/title/2025-11-18/
END:VEVENT
BEGIN:VEVENT
DTSTART;TZID=America/New_York:20251111T080000
DTEND;TZID=America/New_York:20251111T170000
DTSTAMP:20260422T175909
CREATED:20241119T200624Z
LAST-MODIFIED:20241119T200624Z
UID:10000054-1762848000-1762880400@dontspillthebeans.net
SUMMARY:Title
DESCRIPTION:Coming Soon!
URL:https://dontspillthebeans.net/event/title/2025-11-11/
END:VEVENT
BEGIN:VEVENT
DTSTART;TZID=America/New_York:20251104T080000
DTEND;TZID=America/New_York:20251104T170000
DTSTAMP:20260422T175909
CREATED:20241119T200624Z
LAST-MODIFIED:20241119T200624Z
UID:10000053-1762243200-1762275600@dontspillthebeans.net
SUMMARY:Title
DESCRIPTION:Coming Soon!
URL:https://dontspillthebeans.net/event/title/2025-11-04/
END:VEVENT
BEGIN:VEVENT
DTSTART;TZID=America/New_York:20251028T080000
DTEND;TZID=America/New_York:20251028T170000
DTSTAMP:20260422T175909
CREATED:20241119T200624Z
LAST-MODIFIED:20241119T200624Z
UID:10000052-1761638400-1761670800@dontspillthebeans.net
SUMMARY:Title
DESCRIPTION:Coming Soon!
URL:https://dontspillthebeans.net/event/title/2025-10-28/
END:VEVENT
BEGIN:VEVENT
DTSTART;TZID=America/New_York:20251021T080000
DTEND;TZID=America/New_York:20251021T170000
DTSTAMP:20260422T175909
CREATED:20241119T200624Z
LAST-MODIFIED:20241119T200624Z
UID:10000051-1761033600-1761066000@dontspillthebeans.net
SUMMARY:Title
DESCRIPTION:Coming Soon!
URL:https://dontspillthebeans.net/event/title/2025-10-21/
END:VEVENT
BEGIN:VEVENT
DTSTART;TZID=America/New_York:20251014T080000
DTEND;TZID=America/New_York:20251014T170000
DTSTAMP:20260422T175909
CREATED:20241119T200624Z
LAST-MODIFIED:20241119T200624Z
UID:10000050-1760428800-1760461200@dontspillthebeans.net
SUMMARY:Title
DESCRIPTION:Coming Soon!
URL:https://dontspillthebeans.net/event/title/2025-10-14/
END:VEVENT
BEGIN:VEVENT
DTSTART;TZID=America/New_York:20251007T080000
DTEND;TZID=America/New_York:20251007T170000
DTSTAMP:20260422T175909
CREATED:20241119T200624Z
LAST-MODIFIED:20241119T200624Z
UID:10000049-1759824000-1759856400@dontspillthebeans.net
SUMMARY:Title
DESCRIPTION:Coming Soon!
URL:https://dontspillthebeans.net/event/title/2025-10-07/
END:VEVENT
BEGIN:VEVENT
DTSTART;TZID=America/New_York:20250930T080000
DTEND;TZID=America/New_York:20250930T170000
DTSTAMP:20260422T175909
CREATED:20241119T200624Z
LAST-MODIFIED:20241119T200624Z
UID:10000048-1759219200-1759251600@dontspillthebeans.net
SUMMARY:Title
DESCRIPTION:Coming Soon!
URL:https://dontspillthebeans.net/event/title/2025-09-30/
END:VEVENT
BEGIN:VEVENT
DTSTART;TZID=America/New_York:20250923T080000
DTEND;TZID=America/New_York:20250923T170000
DTSTAMP:20260422T175909
CREATED:20241119T200624Z
LAST-MODIFIED:20241119T200624Z
UID:10000047-1758614400-1758646800@dontspillthebeans.net
SUMMARY:Title
DESCRIPTION:Coming Soon!
URL:https://dontspillthebeans.net/event/title/2025-09-23/
END:VEVENT
BEGIN:VEVENT
DTSTART;TZID=America/New_York:20250916T080000
DTEND;TZID=America/New_York:20250916T170000
DTSTAMP:20260422T175909
CREATED:20241119T200624Z
LAST-MODIFIED:20241119T200624Z
UID:10000046-1758009600-1758042000@dontspillthebeans.net
SUMMARY:Title
DESCRIPTION:Coming Soon!
URL:https://dontspillthebeans.net/event/title/2025-09-16/
END:VEVENT
BEGIN:VEVENT
DTSTART;TZID=America/New_York:20250909T080000
DTEND;TZID=America/New_York:20250909T170000
DTSTAMP:20260422T175909
CREATED:20241119T200624Z
LAST-MODIFIED:20241119T200624Z
UID:10000045-1757404800-1757437200@dontspillthebeans.net
SUMMARY:Title
DESCRIPTION:Coming Soon!
URL:https://dontspillthebeans.net/event/title/2025-09-09/
END:VEVENT
BEGIN:VEVENT
DTSTART;TZID=America/New_York:20250902T080000
DTEND;TZID=America/New_York:20250902T170000
DTSTAMP:20260422T175909
CREATED:20241119T200624Z
LAST-MODIFIED:20241119T200624Z
UID:10000044-1756800000-1756832400@dontspillthebeans.net
SUMMARY:Title
DESCRIPTION:Coming Soon!
URL:https://dontspillthebeans.net/event/title/2025-09-02/
END:VEVENT
BEGIN:VEVENT
DTSTART;TZID=America/New_York:20250826T080000
DTEND;TZID=America/New_York:20250826T170000
DTSTAMP:20260422T175909
CREATED:20241119T200624Z
LAST-MODIFIED:20241119T200624Z
UID:10000043-1756195200-1756227600@dontspillthebeans.net
SUMMARY:Title
DESCRIPTION:Coming Soon!
URL:https://dontspillthebeans.net/event/title/2025-08-26/
END:VEVENT
BEGIN:VEVENT
DTSTART;TZID=America/New_York:20250819T080000
DTEND;TZID=America/New_York:20250819T170000
DTSTAMP:20260422T175909
CREATED:20241119T200624Z
LAST-MODIFIED:20241119T200624Z
UID:10000042-1755590400-1755622800@dontspillthebeans.net
SUMMARY:Title
DESCRIPTION:Coming Soon!
URL:https://dontspillthebeans.net/event/title/2025-08-19/
END:VEVENT
BEGIN:VEVENT
DTSTART;TZID=America/New_York:20250812T080000
DTEND;TZID=America/New_York:20250812T170000
DTSTAMP:20260422T175909
CREATED:20241119T200624Z
LAST-MODIFIED:20241119T200624Z
UID:10000041-1754985600-1755018000@dontspillthebeans.net
SUMMARY:Title
DESCRIPTION:Coming Soon!
URL:https://dontspillthebeans.net/event/title/2025-08-12/
END:VEVENT
END:VCALENDAR