BEGIN:VCALENDAR
VERSION:2.0
PRODID:-//Don&#039;t Spill the Beans - ECPv6.15.20//NONSGML v1.0//EN
CALSCALE:GREGORIAN
METHOD:PUBLISH
X-WR-CALNAME:Don&#039;t Spill the Beans
X-ORIGINAL-URL:https://dontspillthebeans.net
X-WR-CALDESC:Events for Don&#039;t Spill the Beans
REFRESH-INTERVAL;VALUE=DURATION:PT1H
X-Robots-Tag:noindex
X-PUBLISHED-TTL:PT1H
BEGIN:VTIMEZONE
TZID:America/New_York
BEGIN:DAYLIGHT
TZOFFSETFROM:-0500
TZOFFSETTO:-0400
TZNAME:EDT
DTSTART:20270314T070000
END:DAYLIGHT
BEGIN:STANDARD
TZOFFSETFROM:-0400
TZOFFSETTO:-0500
TZNAME:EST
DTSTART:20271107T060000
END:STANDARD
BEGIN:DAYLIGHT
TZOFFSETFROM:-0500
TZOFFSETTO:-0400
TZNAME:EDT
DTSTART:20280312T070000
END:DAYLIGHT
BEGIN:STANDARD
TZOFFSETFROM:-0400
TZOFFSETTO:-0500
TZNAME:EST
DTSTART:20281105T060000
END:STANDARD
BEGIN:DAYLIGHT
TZOFFSETFROM:-0500
TZOFFSETTO:-0400
TZNAME:EDT
DTSTART:20290311T070000
END:DAYLIGHT
BEGIN:STANDARD
TZOFFSETFROM:-0400
TZOFFSETTO:-0500
TZNAME:EST
DTSTART:20291104T060000
END:STANDARD
END:VTIMEZONE
BEGIN:VEVENT
DTSTART;TZID=America/New_York:20280125T080000
DTEND;TZID=America/New_York:20280125T170000
DTSTAMP:20260422T185709
CREATED:20241119T200624Z
LAST-MODIFIED:20241119T200624Z
UID:10000169-1832400000-1832432400@dontspillthebeans.net
SUMMARY:Title
DESCRIPTION:Coming Soon!
URL:https://dontspillthebeans.net/event/title/2028-01-25/
END:VEVENT
BEGIN:VEVENT
DTSTART;TZID=America/New_York:20280201T080000
DTEND;TZID=America/New_York:20280201T170000
DTSTAMP:20260422T185709
CREATED:20241119T200624Z
LAST-MODIFIED:20241119T200624Z
UID:10000170-1833004800-1833037200@dontspillthebeans.net
SUMMARY:Title
DESCRIPTION:Coming Soon!
URL:https://dontspillthebeans.net/event/title/2028-02-01/
END:VEVENT
BEGIN:VEVENT
DTSTART;TZID=America/New_York:20280208T080000
DTEND;TZID=America/New_York:20280208T170000
DTSTAMP:20260422T185709
CREATED:20241119T200624Z
LAST-MODIFIED:20241119T200624Z
UID:10000171-1833609600-1833642000@dontspillthebeans.net
SUMMARY:Title
DESCRIPTION:Coming Soon!
URL:https://dontspillthebeans.net/event/title/2028-02-08/
END:VEVENT
BEGIN:VEVENT
DTSTART;TZID=America/New_York:20280215T080000
DTEND;TZID=America/New_York:20280215T170000
DTSTAMP:20260422T185709
CREATED:20241119T200624Z
LAST-MODIFIED:20241119T200624Z
UID:10000172-1834214400-1834246800@dontspillthebeans.net
SUMMARY:Title
DESCRIPTION:Coming Soon!
URL:https://dontspillthebeans.net/event/title/2028-02-15/
END:VEVENT
BEGIN:VEVENT
DTSTART;TZID=America/New_York:20280222T080000
DTEND;TZID=America/New_York:20280222T170000
DTSTAMP:20260422T185709
CREATED:20241119T200624Z
LAST-MODIFIED:20241119T200624Z
UID:10000173-1834819200-1834851600@dontspillthebeans.net
SUMMARY:Title
DESCRIPTION:Coming Soon!
URL:https://dontspillthebeans.net/event/title/2028-02-22/
END:VEVENT
BEGIN:VEVENT
DTSTART;TZID=America/New_York:20280229T080000
DTEND;TZID=America/New_York:20280229T170000
DTSTAMP:20260422T185709
CREATED:20241119T200624Z
LAST-MODIFIED:20241119T200624Z
UID:10000174-1835424000-1835456400@dontspillthebeans.net
SUMMARY:Title
DESCRIPTION:Coming Soon!
URL:https://dontspillthebeans.net/event/title/2028-02-29/
END:VEVENT
BEGIN:VEVENT
DTSTART;TZID=America/New_York:20280307T080000
DTEND;TZID=America/New_York:20280307T170000
DTSTAMP:20260422T185709
CREATED:20241119T200624Z
LAST-MODIFIED:20241119T200624Z
UID:10000175-1836028800-1836061200@dontspillthebeans.net
SUMMARY:Title
DESCRIPTION:Coming Soon!
URL:https://dontspillthebeans.net/event/title/2028-03-07/
END:VEVENT
BEGIN:VEVENT
DTSTART;TZID=America/New_York:20280314T080000
DTEND;TZID=America/New_York:20280314T170000
DTSTAMP:20260422T185709
CREATED:20241119T200624Z
LAST-MODIFIED:20241119T200624Z
UID:10000176-1836633600-1836666000@dontspillthebeans.net
SUMMARY:Title
DESCRIPTION:Coming Soon!
URL:https://dontspillthebeans.net/event/title/2028-03-14/
END:VEVENT
BEGIN:VEVENT
DTSTART;TZID=America/New_York:20280321T080000
DTEND;TZID=America/New_York:20280321T170000
DTSTAMP:20260422T185709
CREATED:20241119T200624Z
LAST-MODIFIED:20241119T200624Z
UID:10000177-1837238400-1837270800@dontspillthebeans.net
SUMMARY:Title
DESCRIPTION:Coming Soon!
URL:https://dontspillthebeans.net/event/title/2028-03-21/
END:VEVENT
BEGIN:VEVENT
DTSTART;TZID=America/New_York:20280328T080000
DTEND;TZID=America/New_York:20280328T170000
DTSTAMP:20260422T185709
CREATED:20241119T200624Z
LAST-MODIFIED:20241119T200624Z
UID:10000178-1837843200-1837875600@dontspillthebeans.net
SUMMARY:Title
DESCRIPTION:Coming Soon!
URL:https://dontspillthebeans.net/event/title/2028-03-28/
END:VEVENT
BEGIN:VEVENT
DTSTART;TZID=America/New_York:20280404T080000
DTEND;TZID=America/New_York:20280404T170000
DTSTAMP:20260422T185709
CREATED:20241119T200624Z
LAST-MODIFIED:20241119T200624Z
UID:10000179-1838448000-1838480400@dontspillthebeans.net
SUMMARY:Title
DESCRIPTION:Coming Soon!
URL:https://dontspillthebeans.net/event/title/2028-04-04/
END:VEVENT
BEGIN:VEVENT
DTSTART;TZID=America/New_York:20280411T080000
DTEND;TZID=America/New_York:20280411T170000
DTSTAMP:20260422T185709
CREATED:20241119T200624Z
LAST-MODIFIED:20241119T200624Z
UID:10000180-1839052800-1839085200@dontspillthebeans.net
SUMMARY:Title
DESCRIPTION:Coming Soon!
URL:https://dontspillthebeans.net/event/title/2028-04-11/
END:VEVENT
BEGIN:VEVENT
DTSTART;TZID=America/New_York:20280418T080000
DTEND;TZID=America/New_York:20280418T170000
DTSTAMP:20260422T185709
CREATED:20241119T200624Z
LAST-MODIFIED:20241119T200624Z
UID:10000181-1839657600-1839690000@dontspillthebeans.net
SUMMARY:Title
DESCRIPTION:Coming Soon!
URL:https://dontspillthebeans.net/event/title/2028-04-18/
END:VEVENT
BEGIN:VEVENT
DTSTART;TZID=America/New_York:20280425T080000
DTEND;TZID=America/New_York:20280425T170000
DTSTAMP:20260422T185709
CREATED:20241119T200624Z
LAST-MODIFIED:20241119T200624Z
UID:10000182-1840262400-1840294800@dontspillthebeans.net
SUMMARY:Title
DESCRIPTION:Coming Soon!
URL:https://dontspillthebeans.net/event/title/2028-04-25/
END:VEVENT
BEGIN:VEVENT
DTSTART;TZID=America/New_York:20280502T080000
DTEND;TZID=America/New_York:20280502T170000
DTSTAMP:20260422T185709
CREATED:20241119T200624Z
LAST-MODIFIED:20241119T200624Z
UID:10000183-1840867200-1840899600@dontspillthebeans.net
SUMMARY:Title
DESCRIPTION:Coming Soon!
URL:https://dontspillthebeans.net/event/title/2028-05-02/
END:VEVENT
BEGIN:VEVENT
DTSTART;TZID=America/New_York:20280509T080000
DTEND;TZID=America/New_York:20280509T170000
DTSTAMP:20260422T185709
CREATED:20241119T200624Z
LAST-MODIFIED:20241119T200624Z
UID:10000184-1841472000-1841504400@dontspillthebeans.net
SUMMARY:Title
DESCRIPTION:Coming Soon!
URL:https://dontspillthebeans.net/event/title/2028-05-09/
END:VEVENT
BEGIN:VEVENT
DTSTART;TZID=America/New_York:20280516T080000
DTEND;TZID=America/New_York:20280516T170000
DTSTAMP:20260422T185709
CREATED:20241119T200624Z
LAST-MODIFIED:20241119T200624Z
UID:10000185-1842076800-1842109200@dontspillthebeans.net
SUMMARY:Title
DESCRIPTION:Coming Soon!
URL:https://dontspillthebeans.net/event/title/2028-05-16/
END:VEVENT
BEGIN:VEVENT
DTSTART;TZID=America/New_York:20280523T080000
DTEND;TZID=America/New_York:20280523T170000
DTSTAMP:20260422T185709
CREATED:20241119T200624Z
LAST-MODIFIED:20241119T200624Z
UID:10000186-1842681600-1842714000@dontspillthebeans.net
SUMMARY:Title
DESCRIPTION:Coming Soon!
URL:https://dontspillthebeans.net/event/title/2028-05-23/
END:VEVENT
BEGIN:VEVENT
DTSTART;TZID=America/New_York:20280530T080000
DTEND;TZID=America/New_York:20280530T170000
DTSTAMP:20260422T185709
CREATED:20241119T200624Z
LAST-MODIFIED:20241119T200624Z
UID:10000187-1843286400-1843318800@dontspillthebeans.net
SUMMARY:Title
DESCRIPTION:Coming Soon!
URL:https://dontspillthebeans.net/event/title/2028-05-30/
END:VEVENT
BEGIN:VEVENT
DTSTART;TZID=America/New_York:20280606T080000
DTEND;TZID=America/New_York:20280606T170000
DTSTAMP:20260422T185709
CREATED:20241119T200624Z
LAST-MODIFIED:20241119T200624Z
UID:10000188-1843891200-1843923600@dontspillthebeans.net
SUMMARY:Title
DESCRIPTION:Coming Soon!
URL:https://dontspillthebeans.net/event/title/2028-06-06/
END:VEVENT
BEGIN:VEVENT
DTSTART;TZID=America/New_York:20280613T080000
DTEND;TZID=America/New_York:20280613T170000
DTSTAMP:20260422T185709
CREATED:20241119T200624Z
LAST-MODIFIED:20241119T200624Z
UID:10000189-1844496000-1844528400@dontspillthebeans.net
SUMMARY:Title
DESCRIPTION:Coming Soon!
URL:https://dontspillthebeans.net/event/title/2028-06-13/
END:VEVENT
BEGIN:VEVENT
DTSTART;TZID=America/New_York:20280620T080000
DTEND;TZID=America/New_York:20280620T170000
DTSTAMP:20260422T185709
CREATED:20241119T200624Z
LAST-MODIFIED:20241119T200624Z
UID:10000190-1845100800-1845133200@dontspillthebeans.net
SUMMARY:Title
DESCRIPTION:Coming Soon!
URL:https://dontspillthebeans.net/event/title/2028-06-20/
END:VEVENT
BEGIN:VEVENT
DTSTART;TZID=America/New_York:20280627T080000
DTEND;TZID=America/New_York:20280627T170000
DTSTAMP:20260422T185709
CREATED:20241119T200624Z
LAST-MODIFIED:20241119T200624Z
UID:10000191-1845705600-1845738000@dontspillthebeans.net
SUMMARY:Title
DESCRIPTION:Coming Soon!
URL:https://dontspillthebeans.net/event/title/2028-06-27/
END:VEVENT
BEGIN:VEVENT
DTSTART;TZID=America/New_York:20280704T080000
DTEND;TZID=America/New_York:20280704T170000
DTSTAMP:20260422T185709
CREATED:20241119T200624Z
LAST-MODIFIED:20241119T200624Z
UID:10000192-1846310400-1846342800@dontspillthebeans.net
SUMMARY:Title
DESCRIPTION:Coming Soon!
URL:https://dontspillthebeans.net/event/title/2028-07-04/
END:VEVENT
BEGIN:VEVENT
DTSTART;TZID=America/New_York:20280711T080000
DTEND;TZID=America/New_York:20280711T170000
DTSTAMP:20260422T185709
CREATED:20241119T200624Z
LAST-MODIFIED:20241119T200624Z
UID:10000193-1846915200-1846947600@dontspillthebeans.net
SUMMARY:Title
DESCRIPTION:Coming Soon!
URL:https://dontspillthebeans.net/event/title/2028-07-11/
END:VEVENT
BEGIN:VEVENT
DTSTART;TZID=America/New_York:20280718T080000
DTEND;TZID=America/New_York:20280718T170000
DTSTAMP:20260422T185709
CREATED:20241119T200624Z
LAST-MODIFIED:20241119T200624Z
UID:10000194-1847520000-1847552400@dontspillthebeans.net
SUMMARY:Title
DESCRIPTION:Coming Soon!
URL:https://dontspillthebeans.net/event/title/2028-07-18/
END:VEVENT
BEGIN:VEVENT
DTSTART;TZID=America/New_York:20280725T080000
DTEND;TZID=America/New_York:20280725T170000
DTSTAMP:20260422T185709
CREATED:20241119T200624Z
LAST-MODIFIED:20241119T200624Z
UID:10000195-1848124800-1848157200@dontspillthebeans.net
SUMMARY:Title
DESCRIPTION:Coming Soon!
URL:https://dontspillthebeans.net/event/title/2028-07-25/
END:VEVENT
BEGIN:VEVENT
DTSTART;TZID=America/New_York:20280801T080000
DTEND;TZID=America/New_York:20280801T170000
DTSTAMP:20260422T185709
CREATED:20241119T200624Z
LAST-MODIFIED:20241119T200624Z
UID:10000196-1848729600-1848762000@dontspillthebeans.net
SUMMARY:Title
DESCRIPTION:Coming Soon!
URL:https://dontspillthebeans.net/event/title/2028-08-01/
END:VEVENT
BEGIN:VEVENT
DTSTART;TZID=America/New_York:20280808T080000
DTEND;TZID=America/New_York:20280808T170000
DTSTAMP:20260422T185709
CREATED:20241119T200624Z
LAST-MODIFIED:20241119T200624Z
UID:10000197-1849334400-1849366800@dontspillthebeans.net
SUMMARY:Title
DESCRIPTION:Coming Soon!
URL:https://dontspillthebeans.net/event/title/2028-08-08/
END:VEVENT
BEGIN:VEVENT
DTSTART;TZID=America/New_York:20280815T080000
DTEND;TZID=America/New_York:20280815T170000
DTSTAMP:20260422T185709
CREATED:20241119T200624Z
LAST-MODIFIED:20241119T200624Z
UID:10000198-1849939200-1849971600@dontspillthebeans.net
SUMMARY:Title
DESCRIPTION:Coming Soon!
URL:https://dontspillthebeans.net/event/title/2028-08-15/
END:VEVENT
END:VCALENDAR